BEGIN:VCALENDAR
VERSION:2.0
PRODID:-//Wassenburg Medical - ECPv4.6.1//NONSGML v1.0//EN
CALSCALE:GREGORIAN
METHOD:PUBLISH
X-WR-CALNAME:Wassenburg Medical
X-ORIGINAL-URL:https://www.wassenburgmedical.com
X-WR-CALDESC:Events for Wassenburg Medical
BEGIN:VEVENT
DTSTART;VALUE=DATE:20171030
DTEND;VALUE=DATE:20171102
DTSTAMP:20171028T235346
CREATED:20171026T131222Z
LAST-MODIFIED:20171026T133211Z
UID:1010-1509321600-1509580799@www.wassenburgmedical.com
SUMMARY:25th UEG Week
DESCRIPTION:From Monday 30th October until Wednesday 1st November Wassenburg Medical will be attending the 25th UEG Week in Barcelona\, Spain. Please visit our stand #99 in hall 8.1 for the launch of our brand new product: the EndoFender®. \n  \n
URL:https://www.wassenburgmedical.com/event/uegw/
CATEGORIES:Exhibitions and Congresses
ATTACH;FMTTYPE=image/jpeg:https://www.wassenburgmedical.com/wp-content/uploads/2017/10/Final-design-UEGW-e1509024719342.jpg
END:VEVENT
END:VCALENDAR